Package: clstutils Version: 1.40.1 Command: C:\cygwin\bin\curl.exe -O http://155.52.207.165/BBS/3.13/bioc/src/contrib/clstutils_1.40.1.tar.gz && rm -rf clstutils.buildbin-libdir && mkdir clstutils.buildbin-libdir && C:\Users\biocbuild\bbs-3.13-bioc\R\bin\R.exe CMD INSTALL --merge-multiarch --build --library=clstutils.buildbin-libdir clstutils_1.40.1.tar.gz && C:\Users\biocbuild\bbs-3.13-bioc\R\bin\R.exe CMD INSTALL clstutils_1.40.1.zip && rm clstutils_1.40.1.tar.gz clstutils_1.40.1.zip StartedAt: 2021-10-14 08:38:57 -0400 (Thu, 14 Oct 2021) EndedAt: 2021-10-14 08:39:48 -0400 (Thu, 14 Oct 2021) EllapsedTime: 51.0 seconds RetCode: 0 Status: OK