Package: clstutils Version: 1.40.1 Command: /home/biocbuild/bbs-3.13-bioc/R/bin/R CMD INSTALL clstutils StartedAt: 2021-10-14 06:10:29 -0400 (Thu, 14 Oct 2021) EndedAt: 2021-10-14 06:10:33 -0400 (Thu, 14 Oct 2021) EllapsedTime: 4.7 seconds RetCode: 0 Status: OK