Package: clstutils Version: 1.40.1 Command: /Library/Frameworks/R.framework/Versions/Current/Resources/bin/R CMD build --keep-empty-dirs --no-resave-data clstutils StartedAt: 2021-10-14 11:17:22 -0400 (Thu, 14 Oct 2021) EndedAt: 2021-10-14 11:17:49 -0400 (Thu, 14 Oct 2021) EllapsedTime: 27.5 seconds RetCode: 0 Status: OK PackageFile: clstutils_1.40.1.tar.gz PackageFileSize: 2.551 MiB