Package: clstutils Version: 1.40.1 Command: rm -rf clstutils.buildbin-libdir && mkdir clstutils.buildbin-libdir && /Users/biocbuild/BBS/utils/build-universal.sh clstutils_1.40.1.tar.gz /Library/Frameworks/R.framework/Versions/Current/Resources/bin/R clstutils.buildbin-libdir StartedAt: 2021-10-15 01:57:36 -0400 (Fri, 15 Oct 2021) EndedAt: 2021-10-15 01:58:39 -0400 (Fri, 15 Oct 2021) EllapsedTime: 63.7 seconds RetCode: 0 Status: OK PackageFile: clstutils_1.40.1.tgz PackageFileSize: 2.582 MiB