Package: cisPath Version: 1.32.0 Command: /Library/Frameworks/R.framework/Versions/Current/Resources/bin/R CMD check --install=check:cisPath.install-out.txt --library=/Library/Frameworks/R.framework/Versions/Current/Resources/library --no-vignettes --timings cisPath_1.32.0.tar.gz StartedAt: 2021-10-14 17:26:00 -0400 (Thu, 14 Oct 2021) EndedAt: 2021-10-14 17:26:30 -0400 (Thu, 14 Oct 2021) EllapsedTime: 30.3 seconds RetCode: 0 Status: WARNINGS CheckDir: cisPath.Rcheck Warnings: 1