Package: cicero Version: 1.10.1 Command: /Library/Frameworks/R.framework/Versions/Current/Resources/bin/R CMD INSTALL cicero StartedAt: 2021-10-14 10:13:13 -0400 (Thu, 14 Oct 2021) EndedAt: 2021-10-14 10:14:29 -0400 (Thu, 14 Oct 2021) EllapsedTime: 75.8 seconds RetCode: 0 Status: OK