Package: chromswitch Version: 1.14.0 Command: /home/biocbuild/bbs-3.13-bioc/R/bin/R CMD check --install=check:chromswitch.install-out.txt --library=/home/biocbuild/bbs-3.13-bioc/R/library --no-vignettes --timings chromswitch_1.14.0.tar.gz StartedAt: 2021-10-14 09:15:11 -0400 (Thu, 14 Oct 2021) EndedAt: 2021-10-14 09:19:12 -0400 (Thu, 14 Oct 2021) EllapsedTime: 241.1 seconds RetCode: 0 Status: OK CheckDir: chromswitch.Rcheck Warnings: 0