Package: chromPlot Version: 1.20.0 Command: /Library/Frameworks/R.framework/Versions/Current/Resources/bin/R CMD check --install=check:chromPlot.install-out.txt --library=/Library/Frameworks/R.framework/Versions/Current/Resources/library --no-vignettes --timings chromPlot_1.20.0.tar.gz StartedAt: 2021-10-14 17:23:19 -0400 (Thu, 14 Oct 2021) EndedAt: 2021-10-14 17:25:54 -0400 (Thu, 14 Oct 2021) EllapsedTime: 155.3 seconds RetCode: 0 Status: OK CheckDir: chromPlot.Rcheck Warnings: 0