Package: chromPlot Version: 1.20.0 Command: rm -rf chromPlot.buildbin-libdir && mkdir chromPlot.buildbin-libdir && /Users/biocbuild/BBS/utils/build-universal.sh chromPlot_1.20.0.tar.gz /Library/Frameworks/R.framework/Versions/Current/Resources/bin/R chromPlot.buildbin-libdir StartedAt: 2021-10-15 01:55:52 -0400 (Fri, 15 Oct 2021) EndedAt: 2021-10-15 01:56:52 -0400 (Fri, 15 Oct 2021) EllapsedTime: 59.5 seconds RetCode: 0 Status: OK PackageFile: chromPlot_1.20.0.tgz PackageFileSize: 1.474 MiB