Package: chipenrich Version: 2.16.0 Command: /home/biocbuild/bbs-3.13-bioc/R/bin/R CMD build --keep-empty-dirs --no-resave-data chipenrich StartedAt: 2021-10-14 06:55:19 -0400 (Thu, 14 Oct 2021) EndedAt: 2021-10-14 06:56:55 -0400 (Thu, 14 Oct 2021) EllapsedTime: 96.1 seconds RetCode: 0 Status: OK PackageFile: chipenrich_2.16.0.tar.gz PackageFileSize: 621.2 KiB