Package: cghMCR Version: 1.50.0 Command: C:\Users\biocbuild\bbs-3.13-bioc\R\bin\R.exe CMD check --force-multiarch --install=check:cghMCR.install-out.txt --library=C:\Users\biocbuild\bbs-3.13-bioc\R\library --no-vignettes --timings cghMCR_1.50.0.tar.gz StartedAt: 2021-10-14 20:54:51 -0400 (Thu, 14 Oct 2021) EndedAt: 2021-10-14 20:58:10 -0400 (Thu, 14 Oct 2021) EllapsedTime: 199.3 seconds RetCode: 0 Status: WARNINGS CheckDir: cghMCR.Rcheck Warnings: 1