Package: cellity Version: 1.20.0 Command: C:\cygwin\bin\curl.exe -O http://155.52.207.165/BBS/3.13/bioc/src/contrib/cellity_1.20.0.tar.gz && rm -rf cellity.buildbin-libdir && mkdir cellity.buildbin-libdir && C:\Users\biocbuild\bbs-3.13-bioc\R\bin\R.exe CMD INSTALL --merge-multiarch --build --library=cellity.buildbin-libdir cellity_1.20.0.tar.gz && C:\Users\biocbuild\bbs-3.13-bioc\R\bin\R.exe CMD INSTALL cellity_1.20.0.zip && rm cellity_1.20.0.tar.gz cellity_1.20.0.zip StartedAt: 2021-10-14 08:21:57 -0400 (Thu, 14 Oct 2021) EndedAt: 2021-10-14 08:22:52 -0400 (Thu, 14 Oct 2021) EllapsedTime: 54.7 seconds RetCode: 0 Status: OK