Package: celda Version: 1.8.1 Command: C:\cygwin\bin\curl.exe -O http://155.52.207.165/BBS/3.13/bioc/src/contrib/celda_1.8.1.tar.gz && rm -rf celda.buildbin-libdir && mkdir celda.buildbin-libdir && C:\Users\biocbuild\bbs-3.13-bioc\R\bin\R.exe CMD INSTALL --merge-multiarch --build --library=celda.buildbin-libdir celda_1.8.1.tar.gz && C:\Users\biocbuild\bbs-3.13-bioc\R\bin\R.exe CMD INSTALL celda_1.8.1.zip && rm celda_1.8.1.tar.gz celda_1.8.1.zip StartedAt: 2021-10-14 11:18:57 -0400 (Thu, 14 Oct 2021) EndedAt: 2021-10-14 11:21:27 -0400 (Thu, 14 Oct 2021) EllapsedTime: 150.3 seconds RetCode: 0 Status: OK