Package: celda Version: 1.8.1 Command: /home/biocbuild/bbs-3.13-bioc/R/bin/R CMD INSTALL celda StartedAt: 2021-10-14 06:35:32 -0400 (Thu, 14 Oct 2021) EndedAt: 2021-10-14 06:36:26 -0400 (Thu, 14 Oct 2021) EllapsedTime: 53.9 seconds RetCode: 0 Status: OK