Package: celda Version: 1.8.1 Command: /Library/Frameworks/R.framework/Versions/Current/Resources/bin/R CMD INSTALL celda StartedAt: 2021-10-14 10:24:14 -0400 (Thu, 14 Oct 2021) EndedAt: 2021-10-14 10:25:34 -0400 (Thu, 14 Oct 2021) EllapsedTime: 80.1 seconds RetCode: 0 Status: OK