Package: celda Version: 1.8.1 Command: /Library/Frameworks/R.framework/Versions/Current/Resources/bin/R CMD check --install=check:celda.install-out.txt --library=/Library/Frameworks/R.framework/Versions/Current/Resources/library --no-vignettes --timings celda_1.8.1.tar.gz StartedAt: 2021-10-14 17:08:51 -0400 (Thu, 14 Oct 2021) EndedAt: 2021-10-14 17:17:30 -0400 (Thu, 14 Oct 2021) EllapsedTime: 519.5 seconds RetCode: 0 Status: OK CheckDir: celda.Rcheck Warnings: 0