Package: celda Version: 1.8.1 Command: /Library/Frameworks/R.framework/Versions/Current/Resources/bin/R CMD build --keep-empty-dirs --no-resave-data celda StartedAt: 2021-10-14 11:04:48 -0400 (Thu, 14 Oct 2021) EndedAt: 2021-10-14 11:14:17 -0400 (Thu, 14 Oct 2021) EllapsedTime: 569.3 seconds RetCode: 0 Status: OK PackageFile: celda_1.8.1.tar.gz PackageFileSize: 1.105 MiB