Package: celaref Version: 1.10.0 Command: chmod a+r celaref -R && C:\Users\biocbuild\bbs-3.13-bioc\R\bin\R.exe CMD build --keep-empty-dirs --no-resave-data celaref StartedAt: 2021-10-14 12:33:48 -0400 (Thu, 14 Oct 2021) EndedAt: 2021-10-14 12:39:42 -0400 (Thu, 14 Oct 2021) EllapsedTime: 354.0 seconds RetCode: 0 Status: OK PackageFile: celaref_1.10.0.tar.gz PackageFileSize: 2 MiB