Package: celaref Version: 1.10.0 Command: rm -rf celaref.buildbin-libdir && mkdir celaref.buildbin-libdir && C:\Users\biocbuild\bbs-3.13-bioc\R\bin\R.exe CMD INSTALL --merge-multiarch --build --library=celaref.buildbin-libdir celaref_1.10.0.tar.gz StartedAt: 2021-10-15 08:26:40 -0400 (Fri, 15 Oct 2021) EndedAt: 2021-10-15 08:28:12 -0400 (Fri, 15 Oct 2021) EllapsedTime: 91.6 seconds RetCode: 0 Status: OK PackageFile: celaref_1.10.0.zip PackageFileSize: 2.416 MiB