Package: ccrepe Version: 1.28.0 Command: chmod a+r ccrepe -R && C:\Users\biocbuild\bbs-3.13-bioc\R\bin\R.exe CMD build --keep-empty-dirs --no-resave-data ccrepe StartedAt: 2021-10-14 12:33:36 -0400 (Thu, 14 Oct 2021) EndedAt: 2021-10-14 12:34:38 -0400 (Thu, 14 Oct 2021) EllapsedTime: 61.9 seconds RetCode: 0 Status: OK PackageFile: ccrepe_1.28.0.tar.gz PackageFileSize: 293.1 KiB