Package: ccmap Version: 1.18.0 Command: C:\cygwin\bin\curl.exe -O http://155.52.207.165/BBS/3.13/bioc/src/contrib/ccmap_1.18.0.tar.gz && rm -rf ccmap.buildbin-libdir && mkdir ccmap.buildbin-libdir && C:\Users\biocbuild\bbs-3.13-bioc\R\bin\R.exe CMD INSTALL --merge-multiarch --build --library=ccmap.buildbin-libdir ccmap_1.18.0.tar.gz && C:\Users\biocbuild\bbs-3.13-bioc\R\bin\R.exe CMD INSTALL ccmap_1.18.0.zip && rm ccmap_1.18.0.tar.gz ccmap_1.18.0.zip StartedAt: 2021-10-14 08:06:04 -0400 (Thu, 14 Oct 2021) EndedAt: 2021-10-14 08:07:08 -0400 (Thu, 14 Oct 2021) EllapsedTime: 64.7 seconds RetCode: 0 Status: OK