Package: ccfindR Version: 1.12.0 Command: chmod a+r ccfindR -R && C:\Users\biocbuild\bbs-3.13-bioc\R\bin\R.exe CMD build --keep-empty-dirs --no-resave-data ccfindR StartedAt: 2021-10-14 12:33:10 -0400 (Thu, 14 Oct 2021) EndedAt: 2021-10-14 12:39:26 -0400 (Thu, 14 Oct 2021) EllapsedTime: 375.7 seconds RetCode: 0 Status: OK PackageFile: ccfindR_1.12.0.tar.gz PackageFileSize: 731.3 KiB