Package: ccfindR Version: 1.12.0 Command: rm -rf ccfindR.buildbin-libdir && mkdir ccfindR.buildbin-libdir && C:\Users\biocbuild\bbs-3.13-bioc\R\bin\R.exe CMD INSTALL --merge-multiarch --build --library=ccfindR.buildbin-libdir ccfindR_1.12.0.tar.gz StartedAt: 2021-10-15 08:26:06 -0400 (Fri, 15 Oct 2021) EndedAt: 2021-10-15 08:27:30 -0400 (Fri, 15 Oct 2021) EllapsedTime: 84.0 seconds RetCode: 0 Status: OK PackageFile: ccfindR_1.12.0.zip PackageFileSize: 2.03 MiB