Package: ccfindR Version: 1.12.0 Command: /Library/Frameworks/R.framework/Versions/Current/Resources/bin/R CMD INSTALL ccfindR StartedAt: 2021-10-14 09:14:36 -0400 (Thu, 14 Oct 2021) EndedAt: 2021-10-14 09:15:25 -0400 (Thu, 14 Oct 2021) EllapsedTime: 48.1 seconds RetCode: 0 Status: OK