Package: ccfindR Version: 1.12.0 Command: rm -rf ccfindR.buildbin-libdir && mkdir ccfindR.buildbin-libdir && /Users/biocbuild/BBS/utils/build-universal.sh ccfindR_1.12.0.tar.gz /Library/Frameworks/R.framework/Versions/Current/Resources/bin/R ccfindR.buildbin-libdir StartedAt: 2021-10-15 01:51:05 -0400 (Fri, 15 Oct 2021) EndedAt: 2021-10-15 01:52:13 -0400 (Fri, 15 Oct 2021) EllapsedTime: 67.5 seconds RetCode: 0 Status: OK PackageFile: ccfindR_1.12.0.tgz PackageFileSize: 1.587 MiB