Package: categoryCompare Version: 1.36.0 Command: /home/biocbuild/bbs-3.13-bioc/R/bin/R CMD check --install=check:categoryCompare.install-out.txt --library=/home/biocbuild/bbs-3.13-bioc/R/library --no-vignettes --timings categoryCompare_1.36.0.tar.gz StartedAt: 2021-10-14 09:09:05 -0400 (Thu, 14 Oct 2021) EndedAt: 2021-10-14 09:11:54 -0400 (Thu, 14 Oct 2021) EllapsedTime: 168.5 seconds RetCode: 0 Status: OK CheckDir: categoryCompare.Rcheck Warnings: 0