Package: categoryCompare Version: 1.36.0 Command: /home/biocbuild/bbs-3.13-bioc/R/bin/R CMD build --keep-empty-dirs --no-resave-data categoryCompare StartedAt: 2021-10-14 06:52:25 -0400 (Thu, 14 Oct 2021) EndedAt: 2021-10-14 06:54:57 -0400 (Thu, 14 Oct 2021) EllapsedTime: 151.4 seconds RetCode: 0 Status: OK PackageFile: categoryCompare_1.36.0.tar.gz PackageFileSize: 2.961 MiB