Package: categoryCompare Version: 1.36.0 Command: /Library/Frameworks/R.framework/Versions/Current/Resources/bin/R CMD check --install=check:categoryCompare.install-out.txt --library=/Library/Frameworks/R.framework/Versions/Current/Resources/library --no-vignettes --timings categoryCompare_1.36.0.tar.gz StartedAt: 2021-10-14 17:06:22 -0400 (Thu, 14 Oct 2021) EndedAt: 2021-10-14 17:10:25 -0400 (Thu, 14 Oct 2021) EllapsedTime: 242.9 seconds RetCode: 0 Status: OK CheckDir: categoryCompare.Rcheck Warnings: 0