Package: categoryCompare Version: 1.36.0 Command: /Library/Frameworks/R.framework/Versions/Current/Resources/bin/R CMD build --keep-empty-dirs --no-resave-data categoryCompare StartedAt: 2021-10-14 11:03:16 -0400 (Thu, 14 Oct 2021) EndedAt: 2021-10-14 11:06:59 -0400 (Thu, 14 Oct 2021) EllapsedTime: 223.4 seconds RetCode: 0 Status: OK PackageFile: categoryCompare_1.36.0.tar.gz PackageFileSize: 2.961 MiB