Package: casper Version: 2.26.0 Command: /Library/Frameworks/R.framework/Versions/Current/Resources/bin/R CMD check --install=check:casper.install-out.txt --library=/Library/Frameworks/R.framework/Versions/Current/Resources/library --no-vignettes --timings casper_2.26.0.tar.gz StartedAt: 2021-10-14 17:05:09 -0400 (Thu, 14 Oct 2021) EndedAt: 2021-10-14 17:11:11 -0400 (Thu, 14 Oct 2021) EllapsedTime: 362.1 seconds RetCode: 0 Status: WARNINGS CheckDir: casper.Rcheck Warnings: 1