Package: caOmicsV Version: 1.22.0 Command: /home/biocbuild/bbs-3.13-bioc/R/bin/R CMD build --keep-empty-dirs --no-resave-data caOmicsV StartedAt: 2021-10-14 06:51:55 -0400 (Thu, 14 Oct 2021) EndedAt: 2021-10-14 06:52:19 -0400 (Thu, 14 Oct 2021) EllapsedTime: 24.3 seconds RetCode: 0 Status: OK PackageFile: caOmicsV_1.22.0.tar.gz PackageFileSize: 4.248 MiB