Package: cTRAP Version: 1.10.1 Command: rm -rf cTRAP.buildbin-libdir && mkdir cTRAP.buildbin-libdir && C:\Users\biocbuild\bbs-3.13-bioc\R\bin\R.exe CMD INSTALL --merge-multiarch --build --library=cTRAP.buildbin-libdir cTRAP_1.10.1.tar.gz StartedAt: 2021-10-15 08:48:44 -0400 (Fri, 15 Oct 2021) EndedAt: 2021-10-15 08:50:07 -0400 (Fri, 15 Oct 2021) EllapsedTime: 83.1 seconds RetCode: 0 Status: OK PackageFile: cTRAP_1.10.1.zip PackageFileSize: 5.185 MiB