Package: cTRAP Version: 1.10.1 Command: /Library/Frameworks/R.framework/Versions/Current/Resources/bin/R CMD check --install=check:cTRAP.install-out.txt --library=/Library/Frameworks/R.framework/Versions/Current/Resources/library --no-vignettes --timings cTRAP_1.10.1.tar.gz StartedAt: 2021-10-14 17:57:33 -0400 (Thu, 14 Oct 2021) EndedAt: 2021-10-14 18:08:08 -0400 (Thu, 14 Oct 2021) EllapsedTime: 635.0 seconds RetCode: 0 Status: OK CheckDir: cTRAP.Rcheck Warnings: 0