Package: cTRAP Version: 1.10.1 Command: /Library/Frameworks/R.framework/Versions/Current/Resources/bin/R CMD build --keep-empty-dirs --no-resave-data cTRAP StartedAt: 2021-10-14 11:31:27 -0400 (Thu, 14 Oct 2021) EndedAt: 2021-10-14 11:33:31 -0400 (Thu, 14 Oct 2021) EllapsedTime: 124.2 seconds RetCode: 0 Status: OK PackageFile: cTRAP_1.10.1.tar.gz PackageFileSize: 5.027 MiB