Package: bridge Version: 1.56.0 Command: chmod a+r bridge -R && C:\Users\biocbuild\bbs-3.13-bioc\R\bin\R.exe CMD build --keep-empty-dirs --no-resave-data bridge StartedAt: 2021-10-14 12:26:17 -0400 (Thu, 14 Oct 2021) EndedAt: 2021-10-14 12:27:02 -0400 (Thu, 14 Oct 2021) EllapsedTime: 44.4 seconds RetCode: 0 Status: OK PackageFile: bridge_1.56.0.tar.gz PackageFileSize: 533.5 KiB