Package: brendaDb Version: 1.6.0 Command: /home/biocbuild/bbs-3.13-bioc/R/bin/R CMD check --install=check:brendaDb.install-out.txt --library=/home/biocbuild/bbs-3.13-bioc/R/library --no-vignettes --timings brendaDb_1.6.0.tar.gz StartedAt: 2021-10-14 09:05:57 -0400 (Thu, 14 Oct 2021) EndedAt: 2021-10-14 09:07:35 -0400 (Thu, 14 Oct 2021) EllapsedTime: 98.8 seconds RetCode: 0 Status: OK CheckDir: brendaDb.Rcheck Warnings: 0