Package: brendaDb Version: 1.6.0 Command: /home/biocbuild/bbs-3.13-bioc/R/bin/R CMD build --keep-empty-dirs --no-resave-data brendaDb StartedAt: 2021-10-14 06:50:12 -0400 (Thu, 14 Oct 2021) EndedAt: 2021-10-14 06:50:41 -0400 (Thu, 14 Oct 2021) EllapsedTime: 28.7 seconds RetCode: 0 Status: OK PackageFile: brendaDb_1.6.0.tar.gz PackageFileSize: 640.2 KiB