git_url: https://git.bioconductor.org/packages/brendaDb git_branch: RELEASE_3_13 git_last_commit: afc5e0a git_last_commit_date: 2021-05-19 12:45:36 -0400 (Wed, 19 May 2021) Package: brendaDb Version: 1.6.0 Maintainer: Yi Zhou MaintainerEmail: yi.zhou at uga.edu