Package: bnem Version: 1.0.0 Command: /home/biocbuild/bbs-3.13-bioc/R/bin/R CMD INSTALL bnem StartedAt: 2021-10-14 06:36:00 -0400 (Thu, 14 Oct 2021) EndedAt: 2021-10-14 06:36:30 -0400 (Thu, 14 Oct 2021) EllapsedTime: 30.1 seconds RetCode: 0 Status: OK