Package: bluster Version: 1.2.1 Command: /home/biocbuild/bbs-3.13-bioc/R/bin/R CMD INSTALL bluster StartedAt: 2021-10-14 06:14:08 -0400 (Thu, 14 Oct 2021) EndedAt: 2021-10-14 06:14:32 -0400 (Thu, 14 Oct 2021) EllapsedTime: 24.4 seconds RetCode: 0 Status: OK