Package: bluster Version: 1.2.1 Command: /home/biocbuild/bbs-3.13-bioc/R/bin/R CMD build --keep-empty-dirs --no-resave-data bluster StartedAt: 2021-10-14 06:49:37 -0400 (Thu, 14 Oct 2021) EndedAt: 2021-10-14 06:52:35 -0400 (Thu, 14 Oct 2021) EllapsedTime: 178.4 seconds RetCode: 0 Status: OK PackageFile: bluster_1.2.1.tar.gz PackageFileSize: 2.859 MiB