Package: blacksheepr Version: 1.6.0 Command: /home/biocbuild/bbs-3.13-bioc/R/bin/R CMD INSTALL blacksheepr StartedAt: 2021-10-14 06:11:59 -0400 (Thu, 14 Oct 2021) EndedAt: 2021-10-14 06:12:20 -0400 (Thu, 14 Oct 2021) EllapsedTime: 21.1 seconds RetCode: 0 Status: OK