Package: blacksheepr Version: 1.6.0 Command: /home/biocbuild/bbs-3.13-bioc/R/bin/R CMD check --install=check:blacksheepr.install-out.txt --library=/home/biocbuild/bbs-3.13-bioc/R/library --no-vignettes --timings blacksheepr_1.6.0.tar.gz StartedAt: 2021-10-14 09:04:02 -0400 (Thu, 14 Oct 2021) EndedAt: 2021-10-14 09:07:18 -0400 (Thu, 14 Oct 2021) EllapsedTime: 196.4 seconds RetCode: 0 Status: OK CheckDir: blacksheepr.Rcheck Warnings: 0