Package: blacksheepr Version: 1.6.0 Command: /home/biocbuild/bbs-3.13-bioc/R/bin/R CMD build --keep-empty-dirs --no-resave-data blacksheepr StartedAt: 2021-10-14 06:49:24 -0400 (Thu, 14 Oct 2021) EndedAt: 2021-10-14 06:51:23 -0400 (Thu, 14 Oct 2021) EllapsedTime: 119.9 seconds RetCode: 0 Status: OK PackageFile: blacksheepr_1.6.0.tar.gz PackageFileSize: 4.154 MiB