Package: blacksheepr Version: 1.6.0 Command: /Library/Frameworks/R.framework/Versions/Current/Resources/bin/R CMD build --keep-empty-dirs --no-resave-data blacksheepr StartedAt: 2021-10-14 10:56:04 -0400 (Thu, 14 Oct 2021) EndedAt: 2021-10-14 10:59:14 -0400 (Thu, 14 Oct 2021) EllapsedTime: 189.4 seconds RetCode: 0 Status: OK PackageFile: blacksheepr_1.6.0.tar.gz PackageFileSize: 4.134 MiB