Package: biscuiteer Version: 1.6.0 Command: C:\cygwin\bin\curl.exe -O http://155.52.207.165/BBS/3.13/bioc/src/contrib/biscuiteer_1.6.0.tar.gz && rm -rf biscuiteer.buildbin-libdir && mkdir biscuiteer.buildbin-libdir && C:\Users\biocbuild\bbs-3.13-bioc\R\bin\R.exe CMD INSTALL --merge-multiarch --build --library=biscuiteer.buildbin-libdir biscuiteer_1.6.0.tar.gz && C:\Users\biocbuild\bbs-3.13-bioc\R\bin\R.exe CMD INSTALL biscuiteer_1.6.0.zip && rm biscuiteer_1.6.0.tar.gz biscuiteer_1.6.0.zip StartedAt: 2021-10-14 11:04:10 -0400 (Thu, 14 Oct 2021) EndedAt: 2021-10-14 11:08:00 -0400 (Thu, 14 Oct 2021) EllapsedTime: 229.8 seconds RetCode: 0 Status: OK