git_url: https://git.bioconductor.org/packages/biscuiteer git_branch: RELEASE_3_13 git_last_commit: 6d86b7b git_last_commit_date: 2021-05-19 12:47:26 -0400 (Wed, 19 May 2021) Package: biscuiteer Version: 1.6.0 Maintainer: "Jacob Morrison" MaintainerEmail: jacob.morrison at vai.org