Package: biotmle Version: 1.16.0 Command: /Library/Frameworks/R.framework/Versions/Current/Resources/bin/R CMD INSTALL biotmle StartedAt: 2021-10-14 09:16:54 -0400 (Thu, 14 Oct 2021) EndedAt: 2021-10-14 09:17:51 -0400 (Thu, 14 Oct 2021) EllapsedTime: 57.0 seconds RetCode: 0 Status: OK