Package: biocthis Version: 1.2.0 Command: C:\Users\biocbuild\bbs-3.13-bioc\R\bin\R.exe CMD check --force-multiarch --install=check:biocthis.install-out.txt --library=C:\Users\biocbuild\bbs-3.13-bioc\R\library --no-vignettes --timings biocthis_1.2.0.tar.gz StartedAt: 2021-10-14 20:13:02 -0400 (Thu, 14 Oct 2021) EndedAt: 2021-10-14 20:13:59 -0400 (Thu, 14 Oct 2021) EllapsedTime: 56.9 seconds RetCode: 0 Status: OK CheckDir: biocthis.Rcheck Warnings: 0