Package: biocthis Version: 1.2.0 Command: chmod a+r biocthis -R && C:\Users\biocbuild\bbs-3.13-bioc\R\bin\R.exe CMD build --keep-empty-dirs --no-resave-data biocthis StartedAt: 2021-10-14 12:04:34 -0400 (Thu, 14 Oct 2021) EndedAt: 2021-10-14 12:05:26 -0400 (Thu, 14 Oct 2021) EllapsedTime: 52.3 seconds RetCode: 0 Status: OK PackageFile: biocthis_1.2.0.tar.gz PackageFileSize: 619 KiB